BEGIN:VCALENDAR
VERSION:2.0
PRODID:-//Northumberland Ladies County Golf Association - ECPv6.13.2.1//NONSGML v1.0//EN
CALSCALE:GREGORIAN
METHOD:PUBLISH
X-ORIGINAL-URL:https://nlcga.co.uk
X-WR-CALDESC:Events for Northumberland Ladies County Golf Association
REFRESH-INTERVAL;VALUE=DURATION:PT1H
X-Robots-Tag:noindex
X-PUBLISHED-TTL:PT1H
BEGIN:VTIMEZONE
TZID:Europe/London
BEGIN:DAYLIGHT
TZOFFSETFROM:+0000
TZOFFSETTO:+0100
TZNAME:BST
DTSTART:20260329T010000
END:DAYLIGHT
BEGIN:STANDARD
TZOFFSETFROM:+0100
TZOFFSETTO:+0000
TZNAME:GMT
DTSTART:20261025T010000
END:STANDARD
END:VTIMEZONE
BEGIN:VEVENT
DTSTART;TZID=Europe/London:20260722T080000
DTEND;TZID=Europe/London:20260722T170000
DTSTAMP:20260421T135147
CREATED:20251107T184430Z
LAST-MODIFIED:20251107T184430Z
UID:10000517-1784707200-1784739600@nlcga.co.uk
SUMMARY:Centenary Trophy
DESCRIPTION:
URL:https://nlcga.co.uk/event/centenary-trophy/
LOCATION:High Gosforth Park Golf Club
CATEGORIES:County
END:VEVENT
END:VCALENDAR